BEGIN:VCALENDAR
VERSION:2.0
PRODID:-//Tukios.com/
BEGIN:VEVENT
UID:d2eb027f-7384-4df6-a0f3-5fdaf6a90d25@www.sawyerchapel.com
DTSTAMP:20260420T190411Z
DTSTART:20260424T190000Z
DTEND:20260424T200000Z
SUMMARY:Memorial Service
DESCRIPTION:
URL:https://www.sawyerchapel.com/obituaries/charles-grimmett
LOCATION:Harper United Methodist Church 613 West 14th Street  Harper KS 
	67058
GEO:37.2827079;-98.032667
END:VEVENT
END:VCALENDAR